BEGIN:VCALENDAR
VERSION:2.0
PRODID:-//Cass County GOP - ECPv6.15.20//NONSGML v1.0//EN
CALSCALE:GREGORIAN
METHOD:PUBLISH
X-WR-CALNAME:Cass County GOP
X-ORIGINAL-URL:https://cass4gop.com
X-WR-CALDESC:Events for Cass County GOP
REFRESH-INTERVAL;VALUE=DURATION:PT1H
X-Robots-Tag:noindex
X-PUBLISHED-TTL:PT1H
BEGIN:VTIMEZONE
TZID:America/Chicago
BEGIN:DAYLIGHT
TZOFFSETFROM:-0600
TZOFFSETTO:-0500
TZNAME:CDT
DTSTART:20210314T080000
END:DAYLIGHT
BEGIN:STANDARD
TZOFFSETFROM:-0500
TZOFFSETTO:-0600
TZNAME:CST
DTSTART:20211107T070000
END:STANDARD
BEGIN:DAYLIGHT
TZOFFSETFROM:-0600
TZOFFSETTO:-0500
TZNAME:CDT
DTSTART:20220313T080000
END:DAYLIGHT
BEGIN:STANDARD
TZOFFSETFROM:-0500
TZOFFSETTO:-0600
TZNAME:CST
DTSTART:20221106T070000
END:STANDARD
BEGIN:DAYLIGHT
TZOFFSETFROM:-0600
TZOFFSETTO:-0500
TZNAME:CDT
DTSTART:20230312T080000
END:DAYLIGHT
BEGIN:STANDARD
TZOFFSETFROM:-0500
TZOFFSETTO:-0600
TZNAME:CST
DTSTART:20231105T070000
END:STANDARD
BEGIN:DAYLIGHT
TZOFFSETFROM:-0600
TZOFFSETTO:-0500
TZNAME:CDT
DTSTART:20240310T080000
END:DAYLIGHT
BEGIN:STANDARD
TZOFFSETFROM:-0500
TZOFFSETTO:-0600
TZNAME:CST
DTSTART:20241103T070000
END:STANDARD
END:VTIMEZONE
BEGIN:VTIMEZONE
TZID:UTC
BEGIN:STANDARD
TZOFFSETFROM:+0000
TZOFFSETTO:+0000
TZNAME:UTC
DTSTART:20200101T000000
END:STANDARD
END:VTIMEZONE
BEGIN:VEVENT
DTSTART;TZID=America/Chicago:20231116T190000
DTEND;TZID=America/Chicago:20231116T210000
DTSTAMP:20260423T190508
CREATED:20231017T033354Z
LAST-MODIFIED:20231017T033804Z
UID:2379-1700161200-1700168400@cass4gop.com
SUMMARY:NOVEMBER 16\, 2023 MEETING
DESCRIPTION:The monthly meeting of the Cass County GOP is scheduled for Thursday\, November 16 beginning at 7:00 pm at the Cass County Extension Office (8400 144th Street\, Weeping Water). \n\nAll Cass County Republicans are welcome and encouraged to attend.
URL:https://cass4gop.com/event/november-16-2023/
LOCATION:Cass County Extension Office / Meeting Room\, 8400 144th Street\, Weeping Water\, NE\, 68463\, United States
CATEGORIES:Monthly Meeting
ORGANIZER;CN="Cass County Republican Party":MAILTO:cass4gop@gmail.com
END:VEVENT
BEGIN:VEVENT
DTSTART;TZID=America/Chicago:20231019T190000
DTEND;TZID=America/Chicago:20231019T210000
DTSTAMP:20260423T190508
CREATED:20231016T184513Z
LAST-MODIFIED:20231016T184626Z
UID:2375-1697742000-1697749200@cass4gop.com
SUMMARY:OCTOBER 19\, 2023 MEETING
DESCRIPTION:The monthly meeting of the Cass County GOP is scheduled for Thursday\, October 19 beginning at 7:00 pm at the Cass County Extension Office (8400 144th Street\, Weeping Water). \n\nAll Cass County Republicans are welcome and encouraged to attend.
URL:https://cass4gop.com/event/october-19-2023-meeting/
LOCATION:Cass County Extension Office / Meeting Room\, 8400 144th Street\, Weeping Water\, NE\, 68463\, United States
CATEGORIES:Monthly Meeting
ORGANIZER;CN="Cass County Republican Party":MAILTO:cass4gop@gmail.com
END:VEVENT
BEGIN:VEVENT
DTSTART;TZID=America/Chicago:20230921T190000
DTEND;TZID=America/Chicago:20230921T210000
DTSTAMP:20260423T190508
CREATED:20230915T224745Z
LAST-MODIFIED:20230918T004847Z
UID:2366-1695322800-1695330000@cass4gop.com
SUMMARY:SEPTEMBER 21\, 2023 MEETING
DESCRIPTION:The monthly meeting of the Cass County GOP is scheduled for Thursday\, September 21 beginning at 7:00 pm at the Cass County Extension Office (8400 144th Street\, Weeping Water). \n\nSpecial guest will be Allison Welch. Allison is President of the Conestoga School Board and will be discussing the proposed bond issue. Voting for the bond is set for November 14\, 2023. \nAll Cass County Republicans are welcome and encouraged to attend.
URL:https://cass4gop.com/event/september-21-2023-meeting/
LOCATION:Cass County Extension Office / Meeting Room\, 8400 144th Street\, Weeping Water\, NE\, 68463\, United States
CATEGORIES:Monthly Meeting
ORGANIZER;CN="Cass County Republican Party":MAILTO:cass4gop@gmail.com
END:VEVENT
BEGIN:VEVENT
DTSTART;TZID=America/Chicago:20230817T190000
DTEND;TZID=America/Chicago:20230817T210000
DTSTAMP:20260423T190508
CREATED:20230814T041841Z
LAST-MODIFIED:20230814T041841Z
UID:2358-1692298800-1692306000@cass4gop.com
SUMMARY:AUGUST 17\, 2023 MEETING
DESCRIPTION:The monthly meeting of the Cass County GOP is scheduled for Thursday\, August 17 beginning at 7:00 pm at the Cass County Extension Office (8400 144th Street\, Weeping Water). \n\nAll Cass County Republicans are welcome and encouraged to attend.
URL:https://cass4gop.com/event/august-17-2023-meeting/
LOCATION:Cass County Extension Office / Meeting Room\, 8400 144th Street\, Weeping Water\, NE\, 68463\, United States
CATEGORIES:Monthly Meeting
ORGANIZER;CN="Cass County Republican Party":MAILTO:cass4gop@gmail.com
END:VEVENT
BEGIN:VEVENT
DTSTART;TZID=America/Chicago:20230720T190000
DTEND;TZID=America/Chicago:20230720T213000
DTSTAMP:20260423T190508
CREATED:20230706T034231Z
LAST-MODIFIED:20230706T034231Z
UID:2353-1689879600-1689888600@cass4gop.com
SUMMARY:JULY 20\, 2023 MEETING
DESCRIPTION:The monthly meeting of the Cass County GOP is scheduled for Thursday\, July 20 beginning at 7:00 pm at the Cass County Extension Office (8400 144th Street\, Weeping Water). \n\nAll Cass County Republicans are welcome and encouraged to attend.
URL:https://cass4gop.com/event/july-20-2023-meeting/
LOCATION:Cass County Extension Office / Meeting Room\, 8400 144th Street\, Weeping Water\, NE\, 68463\, United States
CATEGORIES:Monthly Meeting
ORGANIZER;CN="Cass County Republican Party":MAILTO:cass4gop@gmail.com
END:VEVENT
BEGIN:VEVENT
DTSTART;TZID=America/Chicago:20230615T190000
DTEND;TZID=America/Chicago:20230615T210000
DTSTAMP:20260423T190508
CREATED:20230605T132128Z
LAST-MODIFIED:20230605T132128Z
UID:2348-1686855600-1686862800@cass4gop.com
SUMMARY:Cass County GOP Convention
DESCRIPTION:The Cass County GOP Convention is scheduled for Thursday\, June 15 beginning at 7:00 pm at the Cass County Extension Office (8400 144th Street\, Weeping Water). \nThe 2023-2025 Executive Committee will be voted on. \nAll Cass County Republicans are welcome and encouraged to attend.
URL:https://cass4gop.com/event/cass-county-gop-convention/
LOCATION:Cass County Extension Office / Meeting Room\, 8400 144th Street\, Weeping Water\, NE\, 68463\, United States
CATEGORIES:Monthly Meeting,Upcoming Events
ORGANIZER;CN="Cass County Republican Party":MAILTO:cass4gop@gmail.com
END:VEVENT
BEGIN:VEVENT
DTSTART;TZID=America/Chicago:20230518T183000
DTEND;TZID=America/Chicago:20230518T213000
DTSTAMP:20260423T190508
CREATED:20230501T035012Z
LAST-MODIFIED:20230501T040222Z
UID:2340-1684434600-1684445400@cass4gop.com
SUMMARY:NFFV Legislature 101 Workshop
DESCRIPTION:To learn more about this event\, visit the Nebraskans For Founders’ Values website.  \nNFFV Presenters- Brad & Stephanie Johnson \nRSVP TO: Terri Cunningham-Swanson\n       Terrinboyz@gmail.com \n       Telephone:  402-218-3830
URL:https://cass4gop.com/event/nffv-legislature-101-workshop/
LOCATION:Cass County Extension Office / Meeting Room\, 8400 144th Street\, Weeping Water\, NE\, 68463\, United States
CATEGORIES:Monthly Meeting,Upcoming Events
ORGANIZER;CN="Cass County Republican Party":MAILTO:cass4gop@gmail.com
END:VEVENT
BEGIN:VEVENT
DTSTART;TZID=America/Chicago:20230420T190000
DTEND;TZID=America/Chicago:20230420T210000
DTSTAMP:20260423T190508
CREATED:20230330T182451Z
LAST-MODIFIED:20230330T182451Z
UID:2334-1682017200-1682024400@cass4gop.com
SUMMARY:APRIL 20 MEETING
DESCRIPTION:The monthly meeting of the Cass County GOP is scheduled for Thursday\, April 20 beginning at 7:00 pm at the Cass County Extension Office (8400 144th Street\, Weeping Water). \n\nAll Cass County Republicans are welcome and encouraged to attend.
URL:https://cass4gop.com/event/april-20-meeting/
LOCATION:Cass County Extension Office / Meeting Room\, 8400 144th Street\, Weeping Water\, NE\, 68463\, United States
CATEGORIES:Monthly Meeting
ORGANIZER;CN="Cass County Republican Party":MAILTO:cass4gop@gmail.com
END:VEVENT
BEGIN:VEVENT
DTSTART;TZID=America/Chicago:20230316T190000
DTEND;TZID=America/Chicago:20230316T210000
DTSTAMP:20260423T190508
CREATED:20230222T155607Z
LAST-MODIFIED:20230222T155607Z
UID:2329-1678993200-1679000400@cass4gop.com
SUMMARY:MARCH 16 MEETING
DESCRIPTION:The monthly meeting of the Cass County GOP is scheduled for Thursday\, March 16 beginning at 7:00 pm at the Cass County Extension Office (8400 144th Street\, Weeping Water). \n\nAll Cass County Republicans are welcome and encouraged to attend.
URL:https://cass4gop.com/event/march-16-meeting/
LOCATION:Cass County Extension Office / Meeting Room\, 8400 144th Street\, Weeping Water\, NE\, 68463\, United States
CATEGORIES:Monthly Meeting
ORGANIZER;CN="Cass County Republican Party":MAILTO:cass4gop@gmail.com
END:VEVENT
BEGIN:VEVENT
DTSTART;TZID=America/Chicago:20230216T190000
DTEND;TZID=America/Chicago:20230216T210000
DTSTAMP:20260423T190508
CREATED:20230202T165918Z
LAST-MODIFIED:20230216T161813Z
UID:2322-1676574000-1676581200@cass4gop.com
SUMMARY:FEBRUARY 16\, 2023 MEETING
DESCRIPTION:The monthly meeting of the Cass County GOP scheduled for tonight\, February 16\, HAS BEEN CANCELLED.  See you on Thursday\, March 16!!
URL:https://cass4gop.com/event/february-16-2023-meeting/
LOCATION:Cass County Extension Office / Meeting Room\, 8400 144th Street\, Weeping Water\, NE\, 68463\, United States
CATEGORIES:Monthly Meeting
ORGANIZER;CN="Cass County Republican Party":MAILTO:cass4gop@gmail.com
END:VEVENT
BEGIN:VEVENT
DTSTART;TZID=America/Chicago:20230119T190000
DTEND;TZID=America/Chicago:20230119T210000
DTSTAMP:20260423T190508
CREATED:20221231T025605Z
LAST-MODIFIED:20221231T025605Z
UID:2260-1674154800-1674162000@cass4gop.com
SUMMARY:JANUARY 19\, 2023
DESCRIPTION:The monthly meeting of the Cass County GOP is scheduled for Thursday\, January 19 beginning at 7:00 pm at the Cass County Extension Office (8400 144th Street\, Weeping Water). \n\nAll Cass County Republicans are welcome and encouraged to attend.
URL:https://cass4gop.com/event/january-19-2023/
LOCATION:Cass County Extension Office / Meeting Room\, 8400 144th Street\, Weeping Water\, NE\, 68463\, United States
CATEGORIES:Monthly Meeting
ORGANIZER;CN="Cass County Republican Party":MAILTO:cass4gop@gmail.com
END:VEVENT
BEGIN:VEVENT
DTSTART;TZID=America/Chicago:20221215T190000
DTEND;TZID=America/Chicago:20221215T210000
DTSTAMP:20260423T190508
CREATED:20221121T025547Z
LAST-MODIFIED:20221121T025547Z
UID:2250-1671130800-1671138000@cass4gop.com
SUMMARY:DECEMBER 15\, 2022 MEETING
DESCRIPTION:The monthly meeting of the Cass County GOP is scheduled for Thursday\, December 15 beginning at 7:00 pm at the Cass County Extension Office (8400 144th Street\, Weeping Water). \n\nAll Cass County Republicans are welcome and encouraged to attend.
URL:https://cass4gop.com/event/december-15-2022-meeting/
LOCATION:Cass County Extension Office / Meeting Room\, 8400 144th Street\, Weeping Water\, NE\, 68463\, United States
CATEGORIES:Monthly Meeting
ORGANIZER;CN="Cass County Republican Party":MAILTO:cass4gop@gmail.com
END:VEVENT
BEGIN:VEVENT
DTSTART;TZID=America/Chicago:20221117T190000
DTEND;TZID=America/Chicago:20221117T210000
DTSTAMP:20260423T190508
CREATED:20221024T032654Z
LAST-MODIFIED:20221024T032654Z
UID:2018-1668711600-1668718800@cass4gop.com
SUMMARY:NOVEMBER 17\, 2022 MEETING
DESCRIPTION:The monthly meeting of the Cass County GOP is scheduled for Thursday\, November 17 beginning at 7:00 pm at the Cass County Extension Office. \n\nAll Cass County Republicans are welcome and encouraged to attend.
URL:https://cass4gop.com/event/november-17-2022-meeting/
LOCATION:Cass County Extension Office / Meeting Room\, 8400 144th Street\, Weeping Water\, NE\, 68463\, United States
CATEGORIES:Monthly Meeting
ORGANIZER;CN="Cass County Republican Party":MAILTO:cass4gop@gmail.com
END:VEVENT
BEGIN:VEVENT
DTSTART;TZID=America/Chicago:20221027T170000
DTEND;TZID=America/Chicago:20221027T190000
DTSTAMP:20260423T190508
CREATED:20221024T031450Z
LAST-MODIFIED:20221024T032719Z
UID:2012-1666890000-1666897200@cass4gop.com
SUMMARY:Door Knocking  Campaign in Plattsmouth
DESCRIPTION:On Thursday evening (October 27)\, members of the Cass County GOP who can participate are being asked to gather together to knock on doors of Republican voters in Plattsmouth to encourage them to vote on November 8th. And to specifically vote for Congressman Mike Flood\, Senator Robert Clements and Terri Cunningham-Swanson. \n \nMembers of Congressman Flood’s campaign will be available to assist everyone in the use of a phone app to locate voter‘s residences. They will also have election handouts to distribute.\n \nMeet on Thursday evening (10/27) at the First Baptist Church (16220 US-75\, Plattsmouth – just south of HyVee) at 5:00 PM. Please gather on the north side of the church’s parking lot. \n \nYour participation is requested to help these Republican candidates reach their goal\, which is to WIN ON NOVEMBER 8TH!
URL:https://cass4gop.com/event/door-knocking-campaign-in-plattsmouth/
LOCATION:First Baptist Church\, 16220 US-75\, Plattsmouth\, NE\, United States
CATEGORIES:Upcoming Events
ORGANIZER;CN="Cass County Republican Party":MAILTO:cass4gop@gmail.com
END:VEVENT
BEGIN:VEVENT
DTSTART;TZID=America/Chicago:20221022T120000
DTEND;TZID=America/Chicago:20221022T150000
DTSTAMP:20260423T190508
CREATED:20221021T132400Z
LAST-MODIFIED:20221021T150521Z
UID:2009-1666440000-1666450800@cass4gop.com
SUMMARY:Rick Holdcroft Campaign Walking/Door Help Needed
DESCRIPTION:Looking for a way to help? \nMeet at Billy’s Gretna Cafe (20596 Hwy 370\, Gretna) at noon on Saturday\, October 22.
URL:https://cass4gop.com/event/rick-holdcroft-campaign-walking-door-help-needed/
LOCATION:NE
CATEGORIES:Upcoming Events
END:VEVENT
BEGIN:VEVENT
DTSTART;TZID=America/Chicago:20221020T190000
DTEND;TZID=America/Chicago:20221020T210000
DTSTAMP:20260423T190508
CREATED:20221001T003303Z
LAST-MODIFIED:20221014T145456Z
UID:1571-1666292400-1666299600@cass4gop.com
SUMMARY:OCTOBER 20\, 2022 Meeting
DESCRIPTION:The monthly meeting of the Cass County GOP is scheduled for Thursday\, October 20 beginning at 7:00 pm at the Cass County Extension Office. \n\nGuest Speaker will be Rock County GOP Chairman\, Mike Nolles. Mike and other GOP Chairs recently created the Handshake Across Nebraska which is a group of GOP leaders from across the state who are meeting with county leadership and explaining how the legislative process works and then how the county chairs and members are needed to support conservative legislation to become law. \n\nThe role of a political party is to: \n\n1) Elect conservative leaders.\n2) Create conservative legislation.\n3) Support those leaders and their conservative legislation the process into creating law. \n\nThis requires individuals giving a little of their time but without this\, failure is imminent.\nHandshake Across Nebraska Press Release \n\nAll Cass County Republicans are welcome and encouraged to attend.
URL:https://cass4gop.com/event/october-20-2022-meeting/
LOCATION:Cass County Extension Office / Meeting Room\, 8400 144th Street\, Weeping Water\, NE\, 68463\, United States
CATEGORIES:Monthly Meeting
END:VEVENT
BEGIN:VEVENT
DTSTART;TZID=UTC:20220915T190000
DTEND;TZID=UTC:20220915T210000
DTSTAMP:20260423T190508
CREATED:20220916T031346Z
LAST-MODIFIED:20220916T031346Z
UID:1375-1663268400-1663275600@cass4gop.com
SUMMARY:Sept 15 Monthly Meeting
DESCRIPTION:The monthly meeting of the Cass County GOP is scheduled for Thursday\, September 15 beginning at 7:00 pm at the Cass County Extension Office (8400 144th Street\, Weeping Water).\n\n\nAll Cass County Republicans are welcome and encouraged to attend.
URL:https://cass4gop.com/event/sept-15-monthly-meeting/
LOCATION:NE
END:VEVENT
BEGIN:VEVENT
DTSTART;TZID=UTC:20220818T190000
DTEND;TZID=UTC:20220818T203000
DTSTAMP:20260423T190508
CREATED:20220817T185452Z
LAST-MODIFIED:20220817T185452Z
UID:1371-1660849200-1660854600@cass4gop.com
SUMMARY:AUGUST 18 MONTHLY MEETING
DESCRIPTION: You are invited to join Cass County Nebraska GOP members on Thursday\, 18 August\, 2022 for our regular monthly meeting.  All meetings are held on the 3rd Thursday of the month at 7pm.   \n“The only thing necessary for the triumph of evil is for good men to do nothing.” – Edmund Burke. \nGet in the Game
URL:https://cass4gop.com/event/august-18-monthly-meeting/
LOCATION:NE
END:VEVENT
BEGIN:VEVENT
DTSTART;TZID=UTC:20220810T100000
DTEND;TZID=UTC:20220813T220000
DTSTAMP:20260423T190508
CREATED:20220729T210334Z
LAST-MODIFIED:20220729T210334Z
UID:1367-1660125600-1660428000@cass4gop.com
SUMMARY:CASS COUNTY FAIR BOOTH 2022
DESCRIPTION:  \nPLEASE CLICK THE LINK BELOW TO SIGN UP FOR SHIFTS AT OUR FAIR BOOTH\nCASS COUNTY FAIR AUGUST 10-13TH \nhttps://www.signupgenius.com/go/904094EAEAE22A4FA7-cass2 \nSLOTS AVAILABLE ARE: 10AM-10pM WED-SAT
URL:https://cass4gop.com/event/cass-county-fair-booth-2022/
LOCATION:NE
END:VEVENT
BEGIN:VEVENT
DTSTART;TZID=UTC:20220721T190000
DTEND;TZID=UTC:20220721T190000
DTSTAMP:20260423T190508
CREATED:20220720T200938Z
LAST-MODIFIED:20220720T200938Z
UID:1357-1658430000-1658430000@cass4gop.com
SUMMARY:21 July MONTHLY MEETING
DESCRIPTION:CASS COUNTY GOP MEETING REMINDER\nCass County GOP will be meeting Thursday night\, July 21\, at the Cass County Extension Office (8400 144th St) at 7:00 pm.\nAll registered Cass County Republicans are encouraged to attend.\n\nSPECIAL GUEST SPEAKER: NEBRASKA STATE BOARD OF EDUCATION MEMBER:        KIRK PENNER
URL:https://cass4gop.com/event/21-july-monthly-meeting/
LOCATION:NE
END:VEVENT
BEGIN:VEVENT
DTSTART;TZID=UTC:20220519T190000
DTEND;TZID=UTC:20220519T210000
DTSTAMP:20260423T190508
CREATED:20220514T180507Z
LAST-MODIFIED:20220514T180507Z
UID:1353-1652986800-1652994000@cass4gop.com
SUMMARY:GOP MONTHLY MEETING MAY 19- 7PM
DESCRIPTION:Monthly GOP Meeting: \nThursday\, May 19- 7 PM \nLocation:  \nCass County Extension Office (8400 144th St\, Weeping Water)
URL:https://cass4gop.com/event/gop-monthly-meeting-may-19-7pm/
LOCATION:NE
END:VEVENT
BEGIN:VEVENT
DTSTART;TZID=UTC:20220317T193000
DTEND;TZID=UTC:20220317T213000
DTSTAMP:20260423T190508
CREATED:20220315T161859Z
LAST-MODIFIED:20220316T043507Z
UID:1304-1647545400-1647552600@cass4gop.com
SUMMARY:Cass County CONVENTION 2022
DESCRIPTION:Cass County Republican Party 2022 County Convention to be held on Thursday\, March 17 at 7:30 pm at the County Extension Office (8400 144th St\, Weeping Water).\n\n\n“We consider it not only an honor and a privilege to be involved in the workings and influence of our government\, but a responsibility\,” Zeorian said. “This generation and the next deserve not only our voice but our leadership in action. It’s time to get involved.”
URL:https://cass4gop.com/event/cass-county-convention-2022/
LOCATION:NE
END:VEVENT
BEGIN:VEVENT
DTSTART;TZID=UTC:20220217T190000
DTEND;TZID=UTC:20220217T210000
DTSTAMP:20260423T190508
CREATED:20220211T075921Z
LAST-MODIFIED:20220211T075921Z
UID:1300-1645124400-1645131600@cass4gop.com
SUMMARY:
DESCRIPTION:The honor of your presence is requested next Thursday NIGHT- CASS COUNTY GOP-\nGuests of Honor: YOU\, Candidate for Governor BRELAND RIDENOUR and National Committeeman JL SPRAY.\nCASS COUNTY DELEGATE SIGN UP’S!!\n\n7pm- Cass County Extension Office (8400 144th St\, Suite 100)
URL:https://cass4gop.com/event/1300/
LOCATION:NE
CATEGORIES:Monthly Meeting
END:VEVENT
BEGIN:VEVENT
DTSTART;TZID=UTC:20211216T190000
DTEND;TZID=UTC:20211216T210000
DTSTAMP:20260423T190508
CREATED:20211216T022317Z
LAST-MODIFIED:20211216T022317Z
UID:1290-1639681200-1639688400@cass4gop.com
SUMMARY:December 16 Meeting
DESCRIPTION:Join us this week for our monthly Cass GOP Meeting\, Thursday 16 Dec 2021 \nI will try and share live on the Facebook group as well! \n  \n7PM Cass County Extension Office
URL:https://cass4gop.com/event/december-16-meeting/
LOCATION:NE
END:VEVENT
BEGIN:VEVENT
DTSTART;TZID=UTC:20211118T190000
DTEND;TZID=UTC:20211118T210000
DTSTAMP:20260423T190508
CREATED:20211113T182303Z
LAST-MODIFIED:20211113T182303Z
UID:1285-1637262000-1637269200@cass4gop.com
SUMMARY:November 18 Monthly Meeting- Cass County Extension Office- 7pm
DESCRIPTION:You are invited to our monthly meeting for the Cass County GOP.  Get in the Game…for your families\, your community\, your state\, and your country!  We look forward to seeing you there.
URL:https://cass4gop.com/event/november-18-monthly-meeting-cass-county-extension-office-7pm/
LOCATION:NE
END:VEVENT
BEGIN:VEVENT
DTSTART;TZID=UTC:20211113T170000
DTEND;TZID=UTC:20211113T190000
DTSTAMP:20260423T190508
CREATED:20211013T192049Z
LAST-MODIFIED:20211113T091042Z
UID:1215-1636822800-1636830000@cass4gop.com
SUMMARY:Nebraska's Candidate for Governor Town Hall Debate- Hosted and Organized by Cass County GOP
DESCRIPTION:TIME TO GET OFF THE BENCH AND FILL THIS ROOM.\n\n\nIF YOU HAVE QUESTIONS YOU WANT ANSWERED THIS IS THE PLACE TO HAVE THAT REAL AND RAW CONVERSATION WITH OUR CANDIDATES.\nCass County GOP is honored to provide this conversation platform for the highest position of leadership in Nebraska\, GOVERNOR. The guests of honor include “you” and these candidates. \n\nNebraska\, just as we want to hear from them\, they want to hear from you. Please share this with your friends\, families\, and community. This is not a Cass County Event. This is for NEBRASKA!
URL:https://cass4gop.com/event/nebraskas-candidate-for-governor-town-hall-debate-hosted-and-organized-by-cass-county-gop/
LOCATION:NE
END:VEVENT
BEGIN:VEVENT
DTSTART;TZID=UTC:20211024T160000
DTEND;TZID=UTC:20211024T180000
DTSTAMP:20260423T190508
CREATED:20211013T191253Z
LAST-MODIFIED:20211013T191253Z
UID:1212-1635091200-1635098400@cass4gop.com
SUMMARY:Cass County GOP Family Day- Bloom Where You are planted
DESCRIPTION:Bring your family to meet ours.  This is just a day to get together outside of the meeting room with a little fun at the pumpkin patch. It is important to be a community of people and this is a perfect opportunity to support local business\, have fun with our families\, and get to know our neighbors. \n  \nThe party area has been reserved for our families. Here is the website of Bloom Where You Are Planted. https://www.bloompumpkinpatch.com/ \n  \nRSVP BY 20 OCTOBER TO RECIEVE 2$ OFF THE ADMISSION PRICE. https://www.signupgenius.com/go/904094eaeae22a4fa7-cass1
URL:https://cass4gop.com/event/cass-county-gop-family-day-bloom-where-you-are-planted/
LOCATION:NE
END:VEVENT
BEGIN:VEVENT
DTSTART;TZID=UTC:20211021T190000
DTEND;TZID=UTC:20211021T210000
DTSTAMP:20260423T190508
CREATED:20211013T185620Z
LAST-MODIFIED:20211013T185620Z
UID:1204-1634842800-1634850000@cass4gop.com
SUMMARY:
DESCRIPTION:October 21\, 2021 \n7 pm  \nCass County Extension Office – 8400 144th St.\, Suite 100 \nCome meet and hear Breland Ridenour\, Candidate for Governor.  \n 
URL:https://cass4gop.com/event/1204/
LOCATION:NE
CATEGORIES:Monthly Meeting
ORGANIZER;CN="Cass GOP":MAILTO:cass4gop@gmail.com
END:VEVENT
BEGIN:VEVENT
DTSTART;TZID=UTC:20210916T190000
DTEND;TZID=UTC:20210916T190000
DTSTAMP:20260423T190508
CREATED:20210917T040343Z
LAST-MODIFIED:20210917T040343Z
UID:1200-1631818800-1631818800@cass4gop.com
SUMMARY:
DESCRIPTION:TONIGHT!!!   Join us at 7pm \nCandidate for Governor\, Michael Connely will be joining us!
URL:https://cass4gop.com/event/1200/
LOCATION:NE
END:VEVENT
BEGIN:VEVENT
DTSTART;TZID=UTC:20210825T173000
DTEND;TZID=UTC:20210825T193000
DTSTAMP:20260423T190508
CREATED:20210825T184837Z
LAST-MODIFIED:20210825T184837Z
UID:1195-1629912600-1629919800@cass4gop.com
SUMMARY:
DESCRIPTION:Jim Pillen “Meet and Greet”\n  \nMr. Pillen will be speaking at 6:30. \n\nADDRESS:\n 15803 Middle Island Drive\, South Bend.
URL:https://cass4gop.com/event/1195/
LOCATION:NE
END:VEVENT
END:VCALENDAR