BEGIN:VCALENDAR
VERSION:2.0
PRODID:-//Cass County GOP - ECPv6.15.20//NONSGML v1.0//EN
CALSCALE:GREGORIAN
METHOD:PUBLISH
X-WR-CALNAME:Cass County GOP
X-ORIGINAL-URL:https://cass4gop.com
X-WR-CALDESC:Events for Cass County GOP
REFRESH-INTERVAL;VALUE=DURATION:PT1H
X-Robots-Tag:noindex
X-PUBLISHED-TTL:PT1H
BEGIN:VTIMEZONE
TZID:America/Chicago
BEGIN:DAYLIGHT
TZOFFSETFROM:-0600
TZOFFSETTO:-0500
TZNAME:CDT
DTSTART:20240310T080000
END:DAYLIGHT
BEGIN:STANDARD
TZOFFSETFROM:-0500
TZOFFSETTO:-0600
TZNAME:CST
DTSTART:20241103T070000
END:STANDARD
BEGIN:DAYLIGHT
TZOFFSETFROM:-0600
TZOFFSETTO:-0500
TZNAME:CDT
DTSTART:20250309T080000
END:DAYLIGHT
BEGIN:STANDARD
TZOFFSETFROM:-0500
TZOFFSETTO:-0600
TZNAME:CST
DTSTART:20251102T070000
END:STANDARD
BEGIN:DAYLIGHT
TZOFFSETFROM:-0600
TZOFFSETTO:-0500
TZNAME:CDT
DTSTART:20260308T080000
END:DAYLIGHT
BEGIN:STANDARD
TZOFFSETFROM:-0500
TZOFFSETTO:-0600
TZNAME:CST
DTSTART:20261101T070000
END:STANDARD
BEGIN:DAYLIGHT
TZOFFSETFROM:-0600
TZOFFSETTO:-0500
TZNAME:CDT
DTSTART:20270314T080000
END:DAYLIGHT
BEGIN:STANDARD
TZOFFSETFROM:-0500
TZOFFSETTO:-0600
TZNAME:CST
DTSTART:20271107T070000
END:STANDARD
END:VTIMEZONE
BEGIN:VEVENT
DTSTART;TZID=America/Chicago:20251218T183000
DTEND;TZID=America/Chicago:20251218T210000
DTSTAMP:20260423T173453
CREATED:20251212T203236Z
LAST-MODIFIED:20251212T203236Z
UID:2907-1766082600-1766091600@cass4gop.com
SUMMARY:DECEMBER 18\, 2025 MEETING
DESCRIPTION:PLEASE JOIN US Thursday evening\, December 18\, for a meal and to get better acquainted.  The Cass County Republican Party will be meeting at the Cass County Extension Office meeting room beginning at 6:30 PM. Italian beef sandwiches and chips will be provided. Bring a side dish or a plate of Christmas goodies to share with the group. MERRY CHRISTMAS!
URL:https://cass4gop.com/event/december-18-2025-meeting/
LOCATION:Cass County Extension Office / Meeting Room\, 8400 144th Street\, Weeping Water\, NE\, 68463\, United States
CATEGORIES:Monthly Meeting,Upcoming Events
ATTACH;FMTTYPE=image/png:https://cass4gop.com/wp-content/uploads/2025/12/Christmas-Party-Invite.png
ORGANIZER;CN="Cass County Republican Party":MAILTO:cass4gop@gmail.com
END:VEVENT
BEGIN:VEVENT
DTSTART;TZID=America/Chicago:20260115T190000
DTEND;TZID=America/Chicago:20260115T210000
DTSTAMP:20260423T173453
CREATED:20260113T171949Z
LAST-MODIFIED:20260113T171949Z
UID:2911-1768503600-1768510800@cass4gop.com
SUMMARY:JANUARY 15\, 2026 MEETING
DESCRIPTION:The monthly meeting of the Cass County GOP is scheduled for Thursday\,  January 15th at 7:00 PM. \nLocation: Cass County Extension Office Meeting Room – 8400 144th Street\, Weeping Water \nNOW IS THE TIME TO GET INVOLVED!! \n\nAll Cass County Republicans are welcome and encouraged to attend. TOGETHER\, we can!!
URL:https://cass4gop.com/event/january-15-2026-meeting/
LOCATION:Cass County Extension Office / Meeting Room\, 8400 144th Street\, Weeping Water\, NE\, 68463\, United States
CATEGORIES:Monthly Meeting,Upcoming Events
ATTACH;FMTTYPE=image/png:https://cass4gop.com/wp-content/uploads/2026/01/January-2026-Meeting.png
ORGANIZER;CN="Cass County Republican Party":MAILTO:cass4gop@gmail.com
END:VEVENT
BEGIN:VEVENT
DTSTART;TZID=America/Chicago:20260219T190000
DTEND;TZID=America/Chicago:20260219T210000
DTSTAMP:20260423T173453
CREATED:20260205T215647Z
LAST-MODIFIED:20260219T225258Z
UID:2925-1771527600-1771534800@cass4gop.com
SUMMARY:⚠️CANCELLATION OF FEBRUARY 19\, 2026 MEETING⚠️
DESCRIPTION:The monthly meeting of the Cass County GOP scheduled for Thursday\,  February 19th HAS BEEN CANCELLED DUE TO WEATHER.
URL:https://cass4gop.com/event/february-19-2026-meeting/
LOCATION:Cass County Extension Office / Meeting Room\, 8400 144th Street\, Weeping Water\, NE\, 68463\, United States
CATEGORIES:Monthly Meeting,Upcoming Events
ATTACH;FMTTYPE=image/jpeg:https://cass4gop.com/wp-content/uploads/2026/02/Meeting-Cancellation.jpg
ORGANIZER;CN="Cass County Republican Party":MAILTO:cass4gop@gmail.com
END:VEVENT
BEGIN:VEVENT
DTSTART;TZID=America/Chicago:20260319T183000
DTEND;TZID=America/Chicago:20260319T210000
DTSTAMP:20260423T173453
CREATED:20260114T190722Z
LAST-MODIFIED:20260114T191917Z
UID:2920-1773945000-1773954000@cass4gop.com
SUMMARY:MARCH 19\, 2026 COUNTY CONVENTION
DESCRIPTION:The Cass County GOP County Convention is scheduled for Thursday\, March 19 beginning at 7:00 PM at the Cass County Extension Office Meeting Room (8400 144th Street\, Weeping Water).  Doors will be open at 6:30 to begin the check-in process. \n\nTo be a County voting delegate entitled to elect County GOP officers (Chair\, Vice Chair\, Treasurer and Secretary) and Nebraska GOP State Convention delegates\, you must first complete this form. There is a $5 filing fee which must be paid before registration is complete. Fees will go back to our county treasury.  Deadline is March 1st. \nOur Guest Speaker for the evening will be Nebraska National Committeeman\, William Feely. \nAll Cass County Republicans are welcome and encouraged to attend.
URL:https://cass4gop.com/event/march-19-2026-county-convention/
LOCATION:Cass County Extension Office / Meeting Room\, 8400 144th Street\, Weeping Water\, NE\, 68463\, United States
CATEGORIES:County Convention,Upcoming Events
ATTACH;FMTTYPE=image/png:https://cass4gop.com/wp-content/uploads/2026/01/Cass-County-Convention.png
ORGANIZER;CN="Cass County Republican Party":MAILTO:cass4gop@gmail.com
END:VEVENT
BEGIN:VEVENT
DTSTART;TZID=America/Chicago:20260416T190000
DTEND;TZID=America/Chicago:20260416T210000
DTSTAMP:20260423T173453
CREATED:20260410T002838Z
LAST-MODIFIED:20260410T002838Z
UID:2933-1776366000-1776373200@cass4gop.com
SUMMARY:APRIL 16\, 2026 MEETING NOTICE
DESCRIPTION:The monthly meeting of the Cass County GOP is scheduled for Thursday\,  April 16th at 7:00 PM. \nLocation: Cass County Extension Office Meeting Room – 8400 144th Street\, Weeping Water \nNOW IS THE TIME TO GET INVOLVED!! \n\nAll Cass County Republicans are welcome and encouraged to attend. TOGETHER\, we can!!
URL:https://cass4gop.com/event/april-16-2026-meeting-notice/
LOCATION:Cass County Extension Office / Meeting Room\, 8400 144th Street\, Weeping Water\, NE\, 68463\, United States
CATEGORIES:Monthly Meeting,Upcoming Events
ATTACH;FMTTYPE=image/png:https://cass4gop.com/wp-content/uploads/2026/04/April-16-Meeting-Reminder.png
ORGANIZER;CN="Cass County Republican Party":MAILTO:cass4gop@gmail.com
END:VEVENT
END:VCALENDAR