BEGIN:VCALENDAR
VERSION:2.0
PRODID:-//Cass County GOP - ECPv6.15.20//NONSGML v1.0//EN
CALSCALE:GREGORIAN
METHOD:PUBLISH
X-WR-CALNAME:Cass County GOP
X-ORIGINAL-URL:https://cass4gop.com
X-WR-CALDESC:Events for Cass County GOP
REFRESH-INTERVAL;VALUE=DURATION:PT1H
X-Robots-Tag:noindex
X-PUBLISHED-TTL:PT1H
BEGIN:VTIMEZONE
TZID:America/Chicago
BEGIN:DAYLIGHT
TZOFFSETFROM:-0600
TZOFFSETTO:-0500
TZNAME:CDT
DTSTART:20210314T080000
END:DAYLIGHT
BEGIN:STANDARD
TZOFFSETFROM:-0500
TZOFFSETTO:-0600
TZNAME:CST
DTSTART:20211107T070000
END:STANDARD
BEGIN:DAYLIGHT
TZOFFSETFROM:-0600
TZOFFSETTO:-0500
TZNAME:CDT
DTSTART:20220313T080000
END:DAYLIGHT
BEGIN:STANDARD
TZOFFSETFROM:-0500
TZOFFSETTO:-0600
TZNAME:CST
DTSTART:20221106T070000
END:STANDARD
BEGIN:DAYLIGHT
TZOFFSETFROM:-0600
TZOFFSETTO:-0500
TZNAME:CDT
DTSTART:20230312T080000
END:DAYLIGHT
BEGIN:STANDARD
TZOFFSETFROM:-0500
TZOFFSETTO:-0600
TZNAME:CST
DTSTART:20231105T070000
END:STANDARD
BEGIN:DAYLIGHT
TZOFFSETFROM:-0600
TZOFFSETTO:-0500
TZNAME:CDT
DTSTART:20240310T080000
END:DAYLIGHT
BEGIN:STANDARD
TZOFFSETFROM:-0500
TZOFFSETTO:-0600
TZNAME:CST
DTSTART:20241103T070000
END:STANDARD
BEGIN:DAYLIGHT
TZOFFSETFROM:-0600
TZOFFSETTO:-0500
TZNAME:CDT
DTSTART:20250309T080000
END:DAYLIGHT
BEGIN:STANDARD
TZOFFSETFROM:-0500
TZOFFSETTO:-0600
TZNAME:CST
DTSTART:20251102T070000
END:STANDARD
END:VTIMEZONE
BEGIN:VEVENT
DTSTART;TZID=America/Chicago:20240321T190000
DTEND;TZID=America/Chicago:20240321T210000
DTSTAMP:20260423T105958
CREATED:20240113T202709Z
LAST-MODIFIED:20240311T172725Z
UID:2393-1711047600-1711054800@cass4gop.com
SUMMARY:MARCH 21\, 2024 - CASS COUNTY CONVENTION
DESCRIPTION:The Cass County GOP County Convention is scheduled for Thursday\, March 21 beginning at 7:00 PM at the Cass County Extension Office Meeting Room (8400 144th Street\, Weeping Water). \n\nTo be a County voting delegate entitled to elect Nebraska GOP State Convention delegates\, you must first complete this form and get it to the Cass County Election Commission Office\, 145 N. 4th Street-Rm 201\, Plattsmouth\, NE 68048. Deadline is March 1st. \nOur Guest Speaker for the evening will be Jon Brueggemann. Jon has been a guest speaker in the past and was well received by the group. Jon speaks about the Constitution and the Biblical Foundations of our Great Country. An encouraging message you won’t want to miss! \nAll Cass County Republicans are welcome and encouraged to attend.
URL:https://cass4gop.com/event/march-21-2024-meeting/
LOCATION:Cass County Extension Office / Meeting Room\, 8400 144th Street\, Weeping Water\, NE\, 68463\, United States
CATEGORIES:County Convention,Upcoming Events
ORGANIZER;CN="Cass County Republican Party":MAILTO:cass4gop@gmail.com
END:VEVENT
BEGIN:VEVENT
DTSTART;TZID=America/Chicago:20240125T190000
DTEND;TZID=America/Chicago:20240125T210000
DTSTAMP:20260423T105958
CREATED:20240121T212132Z
LAST-MODIFIED:20240121T212132Z
UID:2409-1706209200-1706216400@cass4gop.com
SUMMARY:JANUARY 25 MEETING (JANUARY 18 MEETING WAS POSTPONED)
DESCRIPTION:The monthly meeting of the Cass County GOP is scheduled for Thursday\, January 25 beginning at 7:00 pm at the Cass County Extension Office meeting room (8400 144th Street\, Weeping Water). \n\nAll Cass County Republicans are welcome and encouraged to attend.
URL:https://cass4gop.com/event/january-25-meeting-january-18-meeting-was-postponed/
LOCATION:Cass County Extension Office / Meeting Room\, 8400 144th Street\, Weeping Water\, NE\, 68463\, United States
CATEGORIES:Monthly Meeting,Upcoming Events
ORGANIZER;CN="Cass County Republican Party":MAILTO:cass4gop@gmail.com
END:VEVENT
BEGIN:VEVENT
DTSTART;TZID=America/Chicago:20230615T190000
DTEND;TZID=America/Chicago:20230615T210000
DTSTAMP:20260423T105958
CREATED:20230605T132128Z
LAST-MODIFIED:20230605T132128Z
UID:2348-1686855600-1686862800@cass4gop.com
SUMMARY:Cass County GOP Convention
DESCRIPTION:The Cass County GOP Convention is scheduled for Thursday\, June 15 beginning at 7:00 pm at the Cass County Extension Office (8400 144th Street\, Weeping Water). \nThe 2023-2025 Executive Committee will be voted on. \nAll Cass County Republicans are welcome and encouraged to attend.
URL:https://cass4gop.com/event/cass-county-gop-convention/
LOCATION:Cass County Extension Office / Meeting Room\, 8400 144th Street\, Weeping Water\, NE\, 68463\, United States
CATEGORIES:Monthly Meeting,Upcoming Events
ORGANIZER;CN="Cass County Republican Party":MAILTO:cass4gop@gmail.com
END:VEVENT
BEGIN:VEVENT
DTSTART;TZID=America/Chicago:20230518T183000
DTEND;TZID=America/Chicago:20230518T213000
DTSTAMP:20260423T105958
CREATED:20230501T035012Z
LAST-MODIFIED:20230501T040222Z
UID:2340-1684434600-1684445400@cass4gop.com
SUMMARY:NFFV Legislature 101 Workshop
DESCRIPTION:To learn more about this event\, visit the Nebraskans For Founders’ Values website.  \nNFFV Presenters- Brad & Stephanie Johnson \nRSVP TO: Terri Cunningham-Swanson\n       Terrinboyz@gmail.com \n       Telephone:  402-218-3830
URL:https://cass4gop.com/event/nffv-legislature-101-workshop/
LOCATION:Cass County Extension Office / Meeting Room\, 8400 144th Street\, Weeping Water\, NE\, 68463\, United States
CATEGORIES:Monthly Meeting,Upcoming Events
ORGANIZER;CN="Cass County Republican Party":MAILTO:cass4gop@gmail.com
END:VEVENT
BEGIN:VEVENT
DTSTART;TZID=America/Chicago:20221027T170000
DTEND;TZID=America/Chicago:20221027T190000
DTSTAMP:20260423T105958
CREATED:20221024T031450Z
LAST-MODIFIED:20221024T032719Z
UID:2012-1666890000-1666897200@cass4gop.com
SUMMARY:Door Knocking  Campaign in Plattsmouth
DESCRIPTION:On Thursday evening (October 27)\, members of the Cass County GOP who can participate are being asked to gather together to knock on doors of Republican voters in Plattsmouth to encourage them to vote on November 8th. And to specifically vote for Congressman Mike Flood\, Senator Robert Clements and Terri Cunningham-Swanson. \n \nMembers of Congressman Flood’s campaign will be available to assist everyone in the use of a phone app to locate voter‘s residences. They will also have election handouts to distribute.\n \nMeet on Thursday evening (10/27) at the First Baptist Church (16220 US-75\, Plattsmouth – just south of HyVee) at 5:00 PM. Please gather on the north side of the church’s parking lot. \n \nYour participation is requested to help these Republican candidates reach their goal\, which is to WIN ON NOVEMBER 8TH!
URL:https://cass4gop.com/event/door-knocking-campaign-in-plattsmouth/
LOCATION:First Baptist Church\, 16220 US-75\, Plattsmouth\, NE\, United States
CATEGORIES:Upcoming Events
ORGANIZER;CN="Cass County Republican Party":MAILTO:cass4gop@gmail.com
END:VEVENT
BEGIN:VEVENT
DTSTART;TZID=America/Chicago:20221022T120000
DTEND;TZID=America/Chicago:20221022T150000
DTSTAMP:20260423T105958
CREATED:20221021T132400Z
LAST-MODIFIED:20221021T150521Z
UID:2009-1666440000-1666450800@cass4gop.com
SUMMARY:Rick Holdcroft Campaign Walking/Door Help Needed
DESCRIPTION:Looking for a way to help? \nMeet at Billy’s Gretna Cafe (20596 Hwy 370\, Gretna) at noon on Saturday\, October 22.
URL:https://cass4gop.com/event/rick-holdcroft-campaign-walking-door-help-needed/
LOCATION:NE
CATEGORIES:Upcoming Events
END:VEVENT
END:VCALENDAR