BEGIN:VCALENDAR
VERSION:2.0
PRODID:-//Cass County GOP - ECPv6.15.20//NONSGML v1.0//EN
CALSCALE:GREGORIAN
METHOD:PUBLISH
X-WR-CALNAME:Cass County GOP
X-ORIGINAL-URL:https://cass4gop.com
X-WR-CALDESC:Events for Cass County GOP
REFRESH-INTERVAL;VALUE=DURATION:PT1H
X-Robots-Tag:noindex
X-PUBLISHED-TTL:PT1H
BEGIN:VTIMEZONE
TZID:America/Chicago
BEGIN:DAYLIGHT
TZOFFSETFROM:-0600
TZOFFSETTO:-0500
TZNAME:CDT
DTSTART:20220313T080000
END:DAYLIGHT
BEGIN:STANDARD
TZOFFSETFROM:-0500
TZOFFSETTO:-0600
TZNAME:CST
DTSTART:20221106T070000
END:STANDARD
BEGIN:DAYLIGHT
TZOFFSETFROM:-0600
TZOFFSETTO:-0500
TZNAME:CDT
DTSTART:20230312T080000
END:DAYLIGHT
BEGIN:STANDARD
TZOFFSETFROM:-0500
TZOFFSETTO:-0600
TZNAME:CST
DTSTART:20231105T070000
END:STANDARD
BEGIN:DAYLIGHT
TZOFFSETFROM:-0600
TZOFFSETTO:-0500
TZNAME:CDT
DTSTART:20240310T080000
END:DAYLIGHT
BEGIN:STANDARD
TZOFFSETFROM:-0500
TZOFFSETTO:-0600
TZNAME:CST
DTSTART:20241103T070000
END:STANDARD
BEGIN:DAYLIGHT
TZOFFSETFROM:-0600
TZOFFSETTO:-0500
TZNAME:CDT
DTSTART:20250309T080000
END:DAYLIGHT
BEGIN:STANDARD
TZOFFSETFROM:-0500
TZOFFSETTO:-0600
TZNAME:CST
DTSTART:20251102T070000
END:STANDARD
BEGIN:DAYLIGHT
TZOFFSETFROM:-0600
TZOFFSETTO:-0500
TZNAME:CDT
DTSTART:20260308T080000
END:DAYLIGHT
BEGIN:STANDARD
TZOFFSETFROM:-0500
TZOFFSETTO:-0600
TZNAME:CST
DTSTART:20261101T070000
END:STANDARD
BEGIN:DAYLIGHT
TZOFFSETFROM:-0600
TZOFFSETTO:-0500
TZNAME:CDT
DTSTART:20270314T080000
END:DAYLIGHT
BEGIN:STANDARD
TZOFFSETFROM:-0500
TZOFFSETTO:-0600
TZNAME:CST
DTSTART:20271107T070000
END:STANDARD
END:VTIMEZONE
BEGIN:VEVENT
DTSTART;TZID=America/Chicago:20260416T190000
DTEND;TZID=America/Chicago:20260416T210000
DTSTAMP:20260423T080155
CREATED:20260410T002838Z
LAST-MODIFIED:20260410T002838Z
UID:2933-1776366000-1776373200@cass4gop.com
SUMMARY:APRIL 16\, 2026 MEETING NOTICE
DESCRIPTION:The monthly meeting of the Cass County GOP is scheduled for Thursday\,  April 16th at 7:00 PM. \nLocation: Cass County Extension Office Meeting Room – 8400 144th Street\, Weeping Water \nNOW IS THE TIME TO GET INVOLVED!! \n\nAll Cass County Republicans are welcome and encouraged to attend. TOGETHER\, we can!!
URL:https://cass4gop.com/event/april-16-2026-meeting-notice/
LOCATION:Cass County Extension Office / Meeting Room\, 8400 144th Street\, Weeping Water\, NE\, 68463\, United States
CATEGORIES:Monthly Meeting,Upcoming Events
ATTACH;FMTTYPE=image/png:https://cass4gop.com/wp-content/uploads/2026/04/April-16-Meeting-Reminder.png
ORGANIZER;CN="Cass County Republican Party":MAILTO:cass4gop@gmail.com
END:VEVENT
BEGIN:VEVENT
DTSTART;TZID=America/Chicago:20260219T190000
DTEND;TZID=America/Chicago:20260219T210000
DTSTAMP:20260423T080155
CREATED:20260205T215647Z
LAST-MODIFIED:20260219T225258Z
UID:2925-1771527600-1771534800@cass4gop.com
SUMMARY:⚠️CANCELLATION OF FEBRUARY 19\, 2026 MEETING⚠️
DESCRIPTION:The monthly meeting of the Cass County GOP scheduled for Thursday\,  February 19th HAS BEEN CANCELLED DUE TO WEATHER.
URL:https://cass4gop.com/event/february-19-2026-meeting/
LOCATION:Cass County Extension Office / Meeting Room\, 8400 144th Street\, Weeping Water\, NE\, 68463\, United States
CATEGORIES:Monthly Meeting,Upcoming Events
ATTACH;FMTTYPE=image/jpeg:https://cass4gop.com/wp-content/uploads/2026/02/Meeting-Cancellation.jpg
ORGANIZER;CN="Cass County Republican Party":MAILTO:cass4gop@gmail.com
END:VEVENT
BEGIN:VEVENT
DTSTART;TZID=America/Chicago:20260115T190000
DTEND;TZID=America/Chicago:20260115T210000
DTSTAMP:20260423T080155
CREATED:20260113T171949Z
LAST-MODIFIED:20260113T171949Z
UID:2911-1768503600-1768510800@cass4gop.com
SUMMARY:JANUARY 15\, 2026 MEETING
DESCRIPTION:The monthly meeting of the Cass County GOP is scheduled for Thursday\,  January 15th at 7:00 PM. \nLocation: Cass County Extension Office Meeting Room – 8400 144th Street\, Weeping Water \nNOW IS THE TIME TO GET INVOLVED!! \n\nAll Cass County Republicans are welcome and encouraged to attend. TOGETHER\, we can!!
URL:https://cass4gop.com/event/january-15-2026-meeting/
LOCATION:Cass County Extension Office / Meeting Room\, 8400 144th Street\, Weeping Water\, NE\, 68463\, United States
CATEGORIES:Monthly Meeting,Upcoming Events
ATTACH;FMTTYPE=image/png:https://cass4gop.com/wp-content/uploads/2026/01/January-2026-Meeting.png
ORGANIZER;CN="Cass County Republican Party":MAILTO:cass4gop@gmail.com
END:VEVENT
BEGIN:VEVENT
DTSTART;TZID=America/Chicago:20251218T183000
DTEND;TZID=America/Chicago:20251218T210000
DTSTAMP:20260423T080155
CREATED:20251212T203236Z
LAST-MODIFIED:20251212T203236Z
UID:2907-1766082600-1766091600@cass4gop.com
SUMMARY:DECEMBER 18\, 2025 MEETING
DESCRIPTION:PLEASE JOIN US Thursday evening\, December 18\, for a meal and to get better acquainted.  The Cass County Republican Party will be meeting at the Cass County Extension Office meeting room beginning at 6:30 PM. Italian beef sandwiches and chips will be provided. Bring a side dish or a plate of Christmas goodies to share with the group. MERRY CHRISTMAS!
URL:https://cass4gop.com/event/december-18-2025-meeting/
LOCATION:Cass County Extension Office / Meeting Room\, 8400 144th Street\, Weeping Water\, NE\, 68463\, United States
CATEGORIES:Monthly Meeting,Upcoming Events
ATTACH;FMTTYPE=image/png:https://cass4gop.com/wp-content/uploads/2025/12/Christmas-Party-Invite.png
ORGANIZER;CN="Cass County Republican Party":MAILTO:cass4gop@gmail.com
END:VEVENT
BEGIN:VEVENT
DTSTART;TZID=America/Chicago:20251120T190000
DTEND;TZID=America/Chicago:20251120T210000
DTSTAMP:20260423T080155
CREATED:20251114T021921Z
LAST-MODIFIED:20251114T021921Z
UID:2903-1763665200-1763672400@cass4gop.com
SUMMARY:NOVEMBER 20\, 2025 MEETING
DESCRIPTION:The monthly meeting of the Cass County GOP is scheduled for Thursday\,  November 20th at 7:00 PM. \nLocation: Cass County Extension Office Meeting Room – 8400 144th Street\, Weeping Water \nNOW IS THE TIME TO GET INVOLVED!! \n\nAll Cass County Republicans are welcome and encouraged to attend. TOGETHER\, we can!!
URL:https://cass4gop.com/event/november-20-2025-meeting/
LOCATION:Cass County Extension Office / Meeting Room\, 8400 144th Street\, Weeping Water\, NE\, 68463\, United States
CATEGORIES:Monthly Meeting,Upcoming Events
ATTACH;FMTTYPE=image/png:https://cass4gop.com/wp-content/uploads/2025/11/November-20th-meeting.png
ORGANIZER;CN="Cass County Republican Party":MAILTO:cass4gop@gmail.com
END:VEVENT
BEGIN:VEVENT
DTSTART;TZID=America/Chicago:20251016T190000
DTEND;TZID=America/Chicago:20251016T210000
DTSTAMP:20260423T080155
CREATED:20251009T164725Z
LAST-MODIFIED:20251009T164725Z
UID:2898-1760641200-1760648400@cass4gop.com
SUMMARY:OCTOBER 16\, 2025 MEETING
DESCRIPTION:The monthly meeting of the Cass County GOP is scheduled for Thursday\,  October 16th at 7:00 PM. \nLocation: Cass County Extension Office Meeting Room – 8400 144th Street\, Weeping Water \nNOW IS THE TIME TO GET INVOLVED!! \n\nAll Cass County Republicans are welcome and encouraged to attend. TOGETHER\, we can!!
URL:https://cass4gop.com/event/october-16-2025-meeting/
LOCATION:Cass County Extension Office / Meeting Room\, 8400 144th Street\, Weeping Water\, NE\, 68463\, United States
CATEGORIES:Monthly Meeting,Upcoming Events
ORGANIZER;CN="Cass County Republican Party":MAILTO:cass4gop@gmail.com
END:VEVENT
BEGIN:VEVENT
DTSTART;TZID=America/Chicago:20250918T190000
DTEND;TZID=America/Chicago:20250918T210000
DTSTAMP:20260423T080155
CREATED:20250707T021241Z
LAST-MODIFIED:20250707T021241Z
UID:2854-1758222000-1758229200@cass4gop.com
SUMMARY:SEPTEMBER 18\, 2025 MEETING
DESCRIPTION:The monthly meeting of the Cass County GOP is scheduled for Thursday\,  September 18th beginning at 7:00 PM. \nNOW IS THE TIME TO GET INVOLVED!! \n\nAll Cass County Republicans are welcome and encouraged to attend. TOGETHER\, we can!!
URL:https://cass4gop.com/event/september-18-2025-meeting/
LOCATION:Cass County Extension Office / Meeting Room\, 8400 144th Street\, Weeping Water\, NE\, 68463\, United States
CATEGORIES:Monthly Meeting,Upcoming Events
ORGANIZER;CN="Cass County Republican Party":MAILTO:cass4gop@gmail.com
END:VEVENT
BEGIN:VEVENT
DTSTART;TZID=America/Chicago:20250821T190000
DTEND;TZID=America/Chicago:20250821T210000
DTSTAMP:20260423T080155
CREATED:20250707T020744Z
LAST-MODIFIED:20250707T020744Z
UID:2849-1755802800-1755810000@cass4gop.com
SUMMARY:AUGUST 21\, 2025 MEETING
DESCRIPTION:The monthly meeting of the Cass County GOP is scheduled for Thursday\,  August 21st beginning at 7:00 PM. \nNOW IS THE TIME TO GET INVOLVED!! \n\nAll Cass County Republicans are welcome and encouraged to attend. TOGETHER\, we can!!
URL:https://cass4gop.com/event/august-21-2025-meeting/
LOCATION:Cass County Extension Office / Meeting Room\, 8400 144th Street\, Weeping Water\, NE\, 68463\, United States
CATEGORIES:Monthly Meeting,Upcoming Events
ORGANIZER;CN="Cass County Republican Party":MAILTO:cass4gop@gmail.com
END:VEVENT
BEGIN:VEVENT
DTSTART;TZID=America/Chicago:20250717T190000
DTEND;TZID=America/Chicago:20250717T210000
DTSTAMP:20260423T080155
CREATED:20250707T020308Z
LAST-MODIFIED:20250707T020308Z
UID:2846-1752778800-1752786000@cass4gop.com
SUMMARY:JULY 17\, 2025 MEETING
DESCRIPTION:The monthly meeting of the Cass County GOP is scheduled for Thursday\, July 17th beginning at 7:00 PM. \nNOW IS THE TIME TO GET INVOLVED!! \n\nAll Cass County Republicans are welcome and encouraged to attend. TOGETHER\, we can!!
URL:https://cass4gop.com/event/july-17-2025-meeting/
LOCATION:Cass County Extension Office / Meeting Room\, 8400 144th Street\, Weeping Water\, NE\, 68463\, United States
CATEGORIES:Monthly Meeting,Upcoming Events
ORGANIZER;CN="Cass County Republican Party":MAILTO:cass4gop@gmail.com
END:VEVENT
BEGIN:VEVENT
DTSTART;TZID=America/Chicago:20250619T190000
DTEND;TZID=America/Chicago:20250619T210000
DTSTAMP:20260423T080155
CREATED:20250609T042745Z
LAST-MODIFIED:20250609T043006Z
UID:2789-1750359600-1750366800@cass4gop.com
SUMMARY:CASS COUNTY GOP CONVENTION
DESCRIPTION:The Cass County GOP Convention is scheduled for Thursday\, June 19 beginning at 7:00 pm at the Cass County Extension Office (8400 144th Street\, Weeping Water). \nThe 2025-2027 Executive Committee (Chair\, Vice Chair\, Secretary and Treasurer) will be voted on. \nDue to the resignation of the County Committeewoman\, this position will also be voted on. \nAll Cass County Republicans are welcome and encouraged to attend.
URL:https://cass4gop.com/event/cass-county-gop-convention-2/
LOCATION:Cass County Extension Office / Meeting Room\, 8400 144th Street\, Weeping Water\, NE\, 68463\, United States
CATEGORIES:County Convention,Monthly Meeting,Upcoming Events
ORGANIZER;CN="Cass County Republican Party":MAILTO:cass4gop@gmail.com
END:VEVENT
BEGIN:VEVENT
DTSTART;TZID=America/Chicago:20250515T190000
DTEND;TZID=America/Chicago:20250515T210000
DTSTAMP:20260423T080155
CREATED:20250316T030424Z
LAST-MODIFIED:20250510T185805Z
UID:2778-1747335600-1747342800@cass4gop.com
SUMMARY:MAY 15\, 2025 MEETING - INCLUDES NEBRASKANS FOR FOUNDERS' VALUES LEGISLATIVE 101 WORKSHOP
DESCRIPTION:The monthly meeting of the Cass County GOP is scheduled for Thursday\, May 15th beginning at 7:00 PM. \n\nThis includes the Nebraskans For Founders’ Values Legislative 101 Workshop featuring guest speaker\, Nebraska State Auditor Mike Foley. \n\nNOW IS THE TIME TO GET INVOLVED!! President Trump\, the Republican Party and the Cass County Republican Party need your help in moving the “America First” agenda forward to the next level! \n\nAll Cass County Republicans are welcome and encouraged to attend. TOGETHER\, we can!!
URL:https://cass4gop.com/event/may-15-2025-meeting-includes-nebraskans-for-founders-values-legislative-101-workshop/
LOCATION:Cass County Extension Office / Meeting Room\, 8400 144th Street\, Weeping Water\, NE\, 68463\, United States
CATEGORIES:Monthly Meeting,Upcoming Events
ORGANIZER;CN="Cass County Republican Party":MAILTO:cass4gop@gmail.com
END:VEVENT
BEGIN:VEVENT
DTSTART;TZID=America/Chicago:20250417T190000
DTEND;TZID=America/Chicago:20250417T210000
DTSTAMP:20260423T080155
CREATED:20250411T040141Z
LAST-MODIFIED:20250411T040141Z
UID:2783-1744916400-1744923600@cass4gop.com
SUMMARY:APRIL 17\, 2025 MEETING -- CANCELLED
DESCRIPTION:Due to our regularly scheduled meeting falling during Holy Week\, the meeting has been cancelled for April 17. We’ll see you on May 15!
URL:https://cass4gop.com/event/april-17-2025-meeting-cancelled/
LOCATION:Cass County Extension Office / Meeting Room\, 8400 144th Street\, Weeping Water\, NE\, 68463\, United States
CATEGORIES:Monthly Meeting,Upcoming Events
ORGANIZER;CN="Cass County Republican Party":MAILTO:cass4gop@gmail.com
END:VEVENT
BEGIN:VEVENT
DTSTART;TZID=America/Chicago:20250320T190000
DTEND;TZID=America/Chicago:20250320T210000
DTSTAMP:20260423T080155
CREATED:20250307T011314Z
LAST-MODIFIED:20250314T163909Z
UID:2762-1742497200-1742504400@cass4gop.com
SUMMARY:MARCH 20\, 2025 MEETING
DESCRIPTION:The monthly meeting of the Cass County GOP is scheduled for Thursday\, March 20th beginning at 7:00 PM. \nNOW IS THE TIME TO GET INVOLVED!! President Trump\, the Republican Party and the Cass County Republican Party need your help in moving the “America First” agenda forward to the next level! \n\nAll Cass County Republicans are welcome and encouraged to attend. TOGETHER\, we can!!
URL:https://cass4gop.com/event/march-20-2025-meeting-includes-nebraskans-for-founders-values-101-workshop/
LOCATION:Cass County Extension Office / Meeting Room\, 8400 144th Street\, Weeping Water\, NE\, 68463\, United States
CATEGORIES:Monthly Meeting,Upcoming Events
ORGANIZER;CN="Cass County Republican Party":MAILTO:cass4gop@gmail.com
END:VEVENT
BEGIN:VEVENT
DTSTART;TZID=America/Chicago:20250220T190000
DTEND;TZID=America/Chicago:20250220T210000
DTSTAMP:20260423T080155
CREATED:20250204T192709Z
LAST-MODIFIED:20250217T182038Z
UID:2751-1740078000-1740085200@cass4gop.com
SUMMARY:FEBRUARY 20\, 2025 MEETING - CANCELLED
DESCRIPTION:The monthly meeting of the Cass County GOP scheduled for Thursday\, February 20th has been CANCELLED due to the weather. \nThe Nebraskans For Founders’ Values 101 Workshop has been postponed to the March 20th meeting. Please plan to attend this meeting as Nebraska Auditor\, Mike Foley\, will be our guest speaker. \nNOW IS THE TIME TO GET INVOLVED!! President Trump\, the Republican Party and the Cass County Republican Party need your help in moving the “America First” agenda above and beyond to the next level! \n\nAll Cass County Republicans are welcome and encouraged to attend. TOGETHER\, we can!!
URL:https://cass4gop.com/event/february-20-2025-meeting-notice/
LOCATION:Cass County Extension Office / Meeting Room\, 8400 144th Street\, Weeping Water\, NE\, 68463\, United States
CATEGORIES:Monthly Meeting,Upcoming Events
ORGANIZER;CN="Cass County Republican Party":MAILTO:cass4gop@gmail.com
END:VEVENT
BEGIN:VEVENT
DTSTART;TZID=America/Chicago:20250116T190000
DTEND;TZID=America/Chicago:20250116T210000
DTSTAMP:20260423T080155
CREATED:20250108T174342Z
LAST-MODIFIED:20250108T174342Z
UID:2747-1737054000-1737061200@cass4gop.com
SUMMARY:JANUARY 16\, 2025 MEETING
DESCRIPTION:The monthly meeting of the Cass County GOP is scheduled for Thursday\, January 16th at 7:00 pm at the Cass County Extension Office Meeting Room (8400 144th Street\, Weeping Water). \n\nAll Cass County Republicans are welcome and encouraged to attend. TOGETHER\, we can!!
URL:https://cass4gop.com/event/january-16-2025-meeting/
LOCATION:Cass County Extension Office / Meeting Room\, 8400 144th Street\, Weeping Water\, NE\, 68463\, United States
CATEGORIES:Monthly Meeting,Upcoming Events
ORGANIZER;CN="Cass County Republican Party":MAILTO:cass4gop@gmail.com
END:VEVENT
BEGIN:VEVENT
DTSTART;TZID=America/Chicago:20241219T180000
DTEND;TZID=America/Chicago:20241219T210000
DTSTAMP:20260423T080155
CREATED:20241205T181446Z
LAST-MODIFIED:20241205T181554Z
UID:2744-1734631200-1734642000@cass4gop.com
SUMMARY:In Lieu of December Monthly Meeting...CHRISTMAS PARTY!
DESCRIPTION:At the November meeting\, it was decided by the group to get together socially rather than having a monthly meeting. I thought it sounded like a great idea!! \nCatered meal (by Round The Bend Steakhouse) will begin at 6:00 pm. Location will be the same…The Cass County Extension Office (8400 144th Street\, Weeping Water). \nBring a plate of your favorite Christmas goodies and be sure to wear your best worst Christmas Sweater!
URL:https://cass4gop.com/event/in-lieu-of-december-monthly-meeting-christmas-party/
LOCATION:Cass County Extension Office / Meeting Room\, 8400 144th Street\, Weeping Water\, NE\, 68463\, United States
CATEGORIES:Monthly Meeting,Upcoming Events
ORGANIZER;CN="Cass County Republican Party":MAILTO:cass4gop@gmail.com
END:VEVENT
BEGIN:VEVENT
DTSTART;TZID=America/Chicago:20241121T190000
DTEND;TZID=America/Chicago:20241121T210000
DTSTAMP:20260423T080155
CREATED:20241112T191945Z
LAST-MODIFIED:20241112T191945Z
UID:2740-1732215600-1732222800@cass4gop.com
SUMMARY:NOVEMBER 21\, 2024 MEETING
DESCRIPTION:The monthly meeting of the Cass County GOP is scheduled for Thursday\, November 21st at 7:00 pm at the Cass County Extension Office Meeting Room (8400 144th Street\, Weeping Water). \n\nAll Cass County Republicans are welcome and encouraged to attend. TOGETHER\, we can!!
URL:https://cass4gop.com/event/november-21-2024-meeting/
LOCATION:Cass County Extension Office / Meeting Room\, 8400 144th Street\, Weeping Water\, NE\, 68463\, United States
CATEGORIES:Monthly Meeting
ORGANIZER;CN="Cass County Republican Party":MAILTO:cass4gop@gmail.com
END:VEVENT
BEGIN:VEVENT
DTSTART;TZID=America/Chicago:20241017T190000
DTEND;TZID=America/Chicago:20241017T210000
DTSTAMP:20260423T080155
CREATED:20240930T031117Z
LAST-MODIFIED:20240930T031117Z
UID:2720-1729191600-1729198800@cass4gop.com
SUMMARY:OCTOBER 17\, 2024 MEETING
DESCRIPTION:The monthly meeting of the Cass County GOP is scheduled for Thursday\, October 17th beginning at 7:00 pm at the Cass County Extension Office (8400 144th Street\, Weeping Water). \n\nAll Cass County Republicans are welcome and encouraged to attend. TOGETHER\, we can!!
URL:https://cass4gop.com/event/october-17-2024-meeting/
LOCATION:Cass County Extension Office / Meeting Room\, 8400 144th Street\, Weeping Water\, NE\, 68463\, United States
CATEGORIES:Monthly Meeting
ORGANIZER;CN="Cass County Republican Party":MAILTO:cass4gop@gmail.com
END:VEVENT
BEGIN:VEVENT
DTSTART;TZID=America/Chicago:20240919T190000
DTEND;TZID=America/Chicago:20240919T210000
DTSTAMP:20260423T080155
CREATED:20240718T034218Z
LAST-MODIFIED:20240718T034218Z
UID:2676-1726772400-1726779600@cass4gop.com
SUMMARY:SEPTEMBER 19\, 2024 MEETING
DESCRIPTION:The monthly meeting of the Cass County GOP is scheduled for Thursday\, September 19th beginning at 7:00 pm at the Cass County Extension Office (8400 144th Street\, Weeping Water). \n\nAll Cass County Republicans are welcome and encouraged to attend. TOGETHER\, we can!!
URL:https://cass4gop.com/event/september-19-2024-meeting/
LOCATION:Cass County Extension Office / Meeting Room\, 8400 144th Street\, Weeping Water\, NE\, 68463\, United States
CATEGORIES:Monthly Meeting
ORGANIZER;CN="Cass County Republican Party":MAILTO:cass4gop@gmail.com
END:VEVENT
BEGIN:VEVENT
DTSTART;TZID=America/Chicago:20240822T190000
DTEND;TZID=America/Chicago:20240822T210000
DTSTAMP:20260423T080155
CREATED:20240718T033410Z
LAST-MODIFIED:20240718T033410Z
UID:2673-1724353200-1724360400@cass4gop.com
SUMMARY:AUGUST 22\, 2024 MEETING
DESCRIPTION:The monthly meeting of the Cass County GOP is scheduled for Thursday\, August 22nd beginning at 7:00 pm at the Cass County Extension Office (8400 144th Street\, Weeping Water). \n\nAll Cass County Republicans are welcome and encouraged to attend. TOGETHER\, we can!!
URL:https://cass4gop.com/event/august-22-2024-meeting/
LOCATION:Cass County Extension Office / Meeting Room\, 8400 144th Street\, Weeping Water\, NE\, 68463\, United States
CATEGORIES:Monthly Meeting
ORGANIZER;CN="Cass County Republican Party":MAILTO:cass4gop@gmail.com
END:VEVENT
BEGIN:VEVENT
DTSTART;TZID=America/Chicago:20240801T190000
DTEND;TZID=America/Chicago:20240801T210000
DTSTAMP:20260423T080155
CREATED:20240718T024829Z
LAST-MODIFIED:20240718T024829Z
UID:2667-1722538800-1722546000@cass4gop.com
SUMMARY:AUGUST 1\, 2024 MEETING
DESCRIPTION:The monthly meeting of the Cass County GOP is scheduled for Thursday\, August 1st beginning at 7:00 pm at the Cass County Extension Office (8400 144th Street\, Weeping Water). \n\nAll Cass County Republicans are welcome and encouraged to attend. TOGETHER\, we can!!
URL:https://cass4gop.com/event/august-1-2024-meeting/
LOCATION:Cass County Extension Office / Meeting Room\, 8400 144th Street\, Weeping Water\, NE\, 68463\, United States
CATEGORIES:Monthly Meeting
ORGANIZER;CN="Cass County Republican Party":MAILTO:cass4gop@gmail.com
END:VEVENT
BEGIN:VEVENT
DTSTART;TZID=America/Chicago:20240725T190000
DTEND;TZID=America/Chicago:20240725T210000
DTSTAMP:20260423T080155
CREATED:20240621T174648Z
LAST-MODIFIED:20240718T025025Z
UID:2630-1721934000-1721941200@cass4gop.com
SUMMARY:CANCELLED - JULY 25\, 2024 MEETING - CANCELLED
DESCRIPTION:The monthly meeting of the Cass County GOP scheduled for Thursday\, July 25th has been rescheduled for Thursday\, August 1st.
URL:https://cass4gop.com/event/july-25-2024-meeting/
LOCATION:Cass County Extension Office / Meeting Room\, 8400 144th Street\, Weeping Water\, NE\, 68463\, United States
CATEGORIES:Monthly Meeting
ORGANIZER;CN="Cass County Republican Party":MAILTO:cass4gop@gmail.com
END:VEVENT
BEGIN:VEVENT
DTSTART;TZID=America/Chicago:20240620T190000
DTEND;TZID=America/Chicago:20240620T210000
DTSTAMP:20260423T080155
CREATED:20240526T195507Z
LAST-MODIFIED:20240526T195507Z
UID:2575-1718910000-1718917200@cass4gop.com
SUMMARY:JUNE 20\, 2024 MONTHLY MEETING
DESCRIPTION:The monthly meeting of the Cass County GOP is scheduled for Thursday\, June 20th beginning at 7:00 pm at the Cass County Extension Office (8400 144th Street\, Weeping Water). \n\nAll Cass County Republicans are welcome and encouraged to attend.
URL:https://cass4gop.com/event/june-20-2024-monthly-meeting/
LOCATION:Cass County Extension Office / Meeting Room\, 8400 144th Street\, Weeping Water\, NE\, 68463\, United States
CATEGORIES:Monthly Meeting
ORGANIZER;CN="Cass County Republican Party":MAILTO:cass4gop@gmail.com
END:VEVENT
BEGIN:VEVENT
DTSTART;TZID=America/Chicago:20240516T190000
DTEND;TZID=America/Chicago:20240516T210000
DTSTAMP:20260423T080155
CREATED:20240510T001525Z
LAST-MODIFIED:20240510T001525Z
UID:2564-1715886000-1715893200@cass4gop.com
SUMMARY:MAY 16\, 2024 MONTHLY MEETING
DESCRIPTION:The monthly meeting of the Cass County GOP is scheduled for Thursday\, May 16th beginning at 7:00 pm at the Cass County Extension Office (8400 144th Street\, Weeping Water). \n\nAll Cass County Republicans are welcome and encouraged to attend.
URL:https://cass4gop.com/event/may-16-2024-monthly-meeting/
LOCATION:Cass County Extension Office / Meeting Room\, 8400 144th Street\, Weeping Water\, NE\, 68463\, United States
CATEGORIES:Monthly Meeting
ORGANIZER;CN="Cass County Republican Party":MAILTO:cass4gop@gmail.com
END:VEVENT
BEGIN:VEVENT
DTSTART;TZID=America/Chicago:20240418T190000
DTEND;TZID=America/Chicago:20240418T210000
DTSTAMP:20260423T080155
CREATED:20240405T010910Z
LAST-MODIFIED:20240405T010910Z
UID:2508-1713466800-1713474000@cass4gop.com
SUMMARY:APRIL 18\, 2024 MONTHLY MEETING
DESCRIPTION:The monthly meeting of the Cass County GOP is scheduled for Thursday\, April 18th beginning at 7:00 pm at the Cass County Extension Office (8400 144th Street\, Weeping Water). \n\nAll Cass County Republicans are welcome and encouraged to attend.
URL:https://cass4gop.com/event/april-18-2024-monthly-meeting/
LOCATION:Cass County Extension Office / Meeting Room\, 8400 144th Street\, Weeping Water\, NE\, 68463\, United States
CATEGORIES:Monthly Meeting,Upcoming Events
ORGANIZER;CN="Cass County Republican Party":MAILTO:cass4gop@gmail.com
END:VEVENT
BEGIN:VEVENT
DTSTART;TZID=America/Chicago:20240215T190000
DTEND;TZID=America/Chicago:20240215T210000
DTSTAMP:20260423T080155
CREATED:20240113T202419Z
LAST-MODIFIED:20240113T203229Z
UID:2391-1708023600-1708030800@cass4gop.com
SUMMARY:FEBRUARY 15\, 2024 MEETING
DESCRIPTION:The monthly meeting of the Cass County GOP is scheduled for Thursday\, February 14 beginning at 7:00 pm at the Cass County Extension Office (8400 144th Street\, Weeping Water). \n\nAll Cass County Republicans are welcome and encouraged to attend.
URL:https://cass4gop.com/event/february-15-2024-meeting/
LOCATION:Cass County Extension Office / Meeting Room\, 8400 144th Street\, Weeping Water\, NE\, 68463\, United States
CATEGORIES:Monthly Meeting
ORGANIZER;CN="Cass County Republican Party":MAILTO:cass4gop@gmail.com
END:VEVENT
BEGIN:VEVENT
DTSTART;TZID=America/Chicago:20240125T190000
DTEND;TZID=America/Chicago:20240125T210000
DTSTAMP:20260423T080155
CREATED:20240121T212132Z
LAST-MODIFIED:20240121T212132Z
UID:2409-1706209200-1706216400@cass4gop.com
SUMMARY:JANUARY 25 MEETING (JANUARY 18 MEETING WAS POSTPONED)
DESCRIPTION:The monthly meeting of the Cass County GOP is scheduled for Thursday\, January 25 beginning at 7:00 pm at the Cass County Extension Office meeting room (8400 144th Street\, Weeping Water). \n\nAll Cass County Republicans are welcome and encouraged to attend.
URL:https://cass4gop.com/event/january-25-meeting-january-18-meeting-was-postponed/
LOCATION:Cass County Extension Office / Meeting Room\, 8400 144th Street\, Weeping Water\, NE\, 68463\, United States
CATEGORIES:Monthly Meeting,Upcoming Events
ORGANIZER;CN="Cass County Republican Party":MAILTO:cass4gop@gmail.com
END:VEVENT
BEGIN:VEVENT
DTSTART;TZID=America/Chicago:20240118T190000
DTEND;TZID=America/Chicago:20240118T210000
DTSTAMP:20260423T080155
CREATED:20240113T202244Z
LAST-MODIFIED:20240119T003859Z
UID:2388-1705604400-1705611600@cass4gop.com
SUMMARY:JANUARY 18\, 2024 MEETING - POSTPONED!
DESCRIPTION:The monthly meeting of the Cass County GOP for Thursday\, January 18 HAS BEEN POSTPONED. Meeting is rescheduled for January 25 at 7:00 pm at the Cass County Extension Office meeting room (8400 144th Street\, Weeping Water).
URL:https://cass4gop.com/event/january-18-2024-meeting/
LOCATION:Cass County Extension Office / Meeting Room\, 8400 144th Street\, Weeping Water\, NE\, 68463\, United States
CATEGORIES:Monthly Meeting
ORGANIZER;CN="Cass County Republican Party":MAILTO:cass4gop@gmail.com
END:VEVENT
BEGIN:VEVENT
DTSTART;TZID=America/Chicago:20231221T190000
DTEND;TZID=America/Chicago:20231221T210000
DTSTAMP:20260423T080155
CREATED:20231017T033744Z
LAST-MODIFIED:20231017T033744Z
UID:2382-1703185200-1703192400@cass4gop.com
SUMMARY:DECEMBER 21\, 2023 MEETING
DESCRIPTION:The monthly meeting of the Cass County GOP is scheduled for Thursday\, December 21 beginning at 7:00 pm at the Cass County Extension Office (8400 144th Street\, Weeping Water). \n\nAll Cass County Republicans are welcome and encouraged to attend.
URL:https://cass4gop.com/event/december-21-2023-meeting/
LOCATION:Cass County Extension Office / Meeting Room\, 8400 144th Street\, Weeping Water\, NE\, 68463\, United States
CATEGORIES:Monthly Meeting
ORGANIZER;CN="Cass County Republican Party":MAILTO:cass4gop@gmail.com
END:VEVENT
BEGIN:VEVENT
DTSTART;TZID=America/Chicago:20231116T190000
DTEND;TZID=America/Chicago:20231116T210000
DTSTAMP:20260423T080155
CREATED:20231017T033354Z
LAST-MODIFIED:20231017T033804Z
UID:2379-1700161200-1700168400@cass4gop.com
SUMMARY:NOVEMBER 16\, 2023 MEETING
DESCRIPTION:The monthly meeting of the Cass County GOP is scheduled for Thursday\, November 16 beginning at 7:00 pm at the Cass County Extension Office (8400 144th Street\, Weeping Water). \n\nAll Cass County Republicans are welcome and encouraged to attend.
URL:https://cass4gop.com/event/november-16-2023/
LOCATION:Cass County Extension Office / Meeting Room\, 8400 144th Street\, Weeping Water\, NE\, 68463\, United States
CATEGORIES:Monthly Meeting
ORGANIZER;CN="Cass County Republican Party":MAILTO:cass4gop@gmail.com
END:VEVENT
END:VCALENDAR