BEGIN:VCALENDAR
VERSION:2.0
PRODID:-//Cass County GOP - ECPv6.15.20//NONSGML v1.0//EN
CALSCALE:GREGORIAN
METHOD:PUBLISH
X-WR-CALNAME:Cass County GOP
X-ORIGINAL-URL:https://cass4gop.com
X-WR-CALDESC:Events for Cass County GOP
REFRESH-INTERVAL;VALUE=DURATION:PT1H
X-Robots-Tag:noindex
X-PUBLISHED-TTL:PT1H
BEGIN:VTIMEZONE
TZID:America/Chicago
BEGIN:DAYLIGHT
TZOFFSETFROM:-0600
TZOFFSETTO:-0500
TZNAME:CDT
DTSTART:20230312T080000
END:DAYLIGHT
BEGIN:STANDARD
TZOFFSETFROM:-0500
TZOFFSETTO:-0600
TZNAME:CST
DTSTART:20231105T070000
END:STANDARD
BEGIN:DAYLIGHT
TZOFFSETFROM:-0600
TZOFFSETTO:-0500
TZNAME:CDT
DTSTART:20240310T080000
END:DAYLIGHT
BEGIN:STANDARD
TZOFFSETFROM:-0500
TZOFFSETTO:-0600
TZNAME:CST
DTSTART:20241103T070000
END:STANDARD
BEGIN:DAYLIGHT
TZOFFSETFROM:-0600
TZOFFSETTO:-0500
TZNAME:CDT
DTSTART:20250309T080000
END:DAYLIGHT
BEGIN:STANDARD
TZOFFSETFROM:-0500
TZOFFSETTO:-0600
TZNAME:CST
DTSTART:20251102T070000
END:STANDARD
END:VTIMEZONE
BEGIN:VEVENT
DTSTART;TZID=America/Chicago:20241024T170000
DTEND;TZID=America/Chicago:20241024T210000
DTSTAMP:20260423T135726
CREATED:20241013T030814Z
LAST-MODIFIED:20241013T030814Z
UID:2731-1729789200-1729803600@cass4gop.com
SUMMARY:Panel Talk & Pot Luck Fundraiser
DESCRIPTION:Don’t miss this chance to hear experts in their field discuss these critical election topics! \nRobert Borer\, Election Management \nDr. Linda Vermooten\, Nebraska State Board of Education \nTiffany Carter\, School Library Content \nJerrod Cunningham\, The Future of Pro-Life Nebraska
URL:https://cass4gop.com/event/panel-talk-pot-luck-fundraiser/
LOCATION:Cass County Extension Office / Meeting Room\, 8400 144th Street\, Weeping Water\, NE\, 68463\, United States
CATEGORIES:Fundraiser,Upcoming Events
ORGANIZER;CN="Cass County Republican Party":MAILTO:cass4gop@gmail.com
END:VEVENT
END:VCALENDAR